BEGIN:VCALENDAR
VERSION:2.0
PRODID:-//eventon.com NONSGML v1.0//EN
CALSCALE:GREGORIAN
METHOD:PUBLISH
BEGIN:VEVENT
UID:69e8fd9543ee8
DTSTAMP:20260422T165549Z
DTSTART:20220310
DTEND:20220311
LOCATION:NürnbergMesse GmbH Messezentrum 1
SUMMARY:PCIM Europe 2022
DESCRIPTION:The PCIM Europe is the world&#8217;s leading exhibition and con
 ference for power electronics\,  intelligent motion\,  renewable energy\,  
 and energy management. This is the place where representatives from the fie
 lds of research and industry come together\,  where trends and developments
  are presented to the public for the first time\,  and where[..]\nhttps://w
 ww.electronics-cooling.com/events/pcim-europe-2022/
URL:https://www.electronics-cooling.com/events/pcim-europe-2022/
END:VEVENT
END:VCALENDAR