BEGIN:VCALENDAR
VERSION:2.0
PRODID:-//eventon.com NONSGML v1.0//EN
CALSCALE:GREGORIAN
METHOD:PUBLISH
BEGIN:VEVENT
UID:69ec9bffe8672
DTSTAMP:20260425T104831Z
DTSTART:20230509T210000Z
DTEND:20230510T000000Z
LOCATION:
SUMMARY:Thermal LIVE Summit
DESCRIPTION:Thermal LIVE Summit is a one-day\,  online event that features 
 webinars and product demos from industry experts! Join us for an event that
  will be a resource for you now\,  in the future\,  and implemented into yo
 ur standard\,  every day practices. Click here for more information: https:
 //thermal.live/\nhttps://www.electronics-cooling.com/events/thermal-live-su
 mmit-2/
URL:https://www.electronics-cooling.com/events/thermal-live-summit-2/
END:VEVENT
END:VCALENDAR