BEGIN:VCALENDAR
VERSION:2.0
PRODID:-//eventon.com NONSGML v1.0//EN
CALSCALE:GREGORIAN
METHOD:PUBLISH
BEGIN:VEVENT
UID:69ea0f22bdcd9
DTSTAMP:20260423T122258Z
DTSTART:20241207
DTEND:20241208
LOCATION:
SUMMARY:IEEE IEDM 2024
DESCRIPTION:IEEE International Electron Devices Meeting (IEDM) is the world
 ’s preeminent forum for reporting technological breakthroughs in the area
 s of semiconductor and electronic device technology\,  design\,  manufactur
 ing\,  physics\,  and modeling. IEDM is the flagship conference for nanomet
 er-scale CMOS transistor technology\,  advanced memory\,  displays\,  senso
 rs\,  MEMS devices\,  novel quantum and nano-scale devices[..]\nhttps://www
 .electronics-cooling.com/events/ieee-iedm-2024/
URL:https://www.electronics-cooling.com/events/ieee-iedm-2024/
END:VEVENT
END:VCALENDAR